BEGIN:VCALENDAR
VERSION:2.0
PRODID:-//Tetenhusen Aktuell - ECPv6.15.20//NONSGML v1.0//EN
CALSCALE:GREGORIAN
METHOD:PUBLISH
X-WR-CALNAME:Tetenhusen Aktuell
X-ORIGINAL-URL:https://tetenhusen-aktuell.de
X-WR-CALDESC:Veranstaltungen für Tetenhusen Aktuell
REFRESH-INTERVAL;VALUE=DURATION:PT1H
X-Robots-Tag:noindex
X-PUBLISHED-TTL:PT1H
BEGIN:VTIMEZONE
TZID:Europe/Berlin
BEGIN:DAYLIGHT
TZOFFSETFROM:+0100
TZOFFSETTO:+0200
TZNAME:CEST
DTSTART:20240331T010000
END:DAYLIGHT
BEGIN:STANDARD
TZOFFSETFROM:+0200
TZOFFSETTO:+0100
TZNAME:CET
DTSTART:20241027T010000
END:STANDARD
BEGIN:DAYLIGHT
TZOFFSETFROM:+0100
TZOFFSETTO:+0200
TZNAME:CEST
DTSTART:20250330T010000
END:DAYLIGHT
BEGIN:STANDARD
TZOFFSETFROM:+0200
TZOFFSETTO:+0100
TZNAME:CET
DTSTART:20251026T010000
END:STANDARD
BEGIN:DAYLIGHT
TZOFFSETFROM:+0100
TZOFFSETTO:+0200
TZNAME:CEST
DTSTART:20260329T010000
END:DAYLIGHT
BEGIN:STANDARD
TZOFFSETFROM:+0200
TZOFFSETTO:+0100
TZNAME:CET
DTSTART:20261025T010000
END:STANDARD
END:VTIMEZONE
BEGIN:VEVENT
DTSTART;TZID=Europe/Berlin:20251129T120000
DTEND;TZID=Europe/Berlin:20251129T200000
DTSTAMP:20260423T120633
CREATED:20251115T162604Z
LAST-MODIFIED:20251115T162604Z
UID:20019-1764417600-1764446400@tetenhusen-aktuell.de
SUMMARY:Weihnachtsmarkt Tetenhusen
DESCRIPTION:Die Gemeinde Tetenhusen und seine Vereine freuen sich auch in diesem Jahr auf zahlreiche Besucher*innen im Schulwald Tetenhusen. \nIm Anhang „Mehr erfahren“… \nFlyer Weihnachtsmarkt 2025
URL:https://tetenhusen-aktuell.de/event/weihnachtsmarkt-tetenhusen-3/
ATTACH;FMTTYPE=image/jpeg:https://tetenhusen-aktuell.de/wp-content/uploads/2025/11/Flyer-Weihnachtsmarkt-2025-e1763223909433.jpg
END:VEVENT
END:VCALENDAR